0.0000089993
0.0000000000
0.0000000000
-0.0000089993
-77.2890658747
34.5635619150
