0.0000089993
0.0000000000
0.0000000000
-0.0000089993
-77.2137688985
34.6008279338
