0.0000089993
0.0000000000
0.0000000000
-0.0000089993
-77.1817404608
34.6286177105
