0.0000089993
0.0000000000
0.0000000000
-0.0000089993
-77.1708783297
34.6288156947
