0.0000089993
0.0000000000
0.0000000000
-0.0000089993
-77.1384089273
34.6383999280
