0.0000089993
0.0000000000
0.0000000000
-0.0000089993
-77.1061555076
34.6569924405
