0.0000089993
0.0000000000
0.0000000000
-0.0000089993
-77.0950143988
34.6480111591
