0.0000089993
0.0000000000
0.0000000000
-0.0000089993
-77.1165946724
34.6387868970
