0.0000089993
0.0000000000
0.0000000000
-0.0000089993
-77.1169366451
34.6537886969
