0.0000089993
0.0000000000
0.0000000000
-0.0000089993
-77.0952033837
34.6571724261
