0.0000089993
0.0000000000
0.0000000000
-0.0000089993
-77.0870860331
34.6576313895
