0.0000089993
0.0000000000
0.0000000000
-0.0000089993
-77.0626259899
34.6641468682
