0.0000089993
0.0000000000
0.0000000000
-0.0000089993
-76.9756929446
34.6771958243
