0.0000089993
0.0000000000
0.0000000000
-0.0000089993
-76.8777177826
34.6877519798
