0.0000089993
0.0000000000
0.0000000000
-0.0000089993
-76.8778527718
34.6958513318
