0.0000089993
0.0000000000
0.0000000000
-0.0000089993
-76.8451943844
34.7026817854
