0.0000089993
0.0000000000
0.0000000000
-0.0000089993
-76.8323164147
34.7089092872
