0.0000089993
0.0000000000
0.0000000000
-0.0000089993
-76.8126349892
34.7066594672
