0.0000089993
0.0000000000
0.0000000000
-0.0000089993
-76.8015298776
34.6978851692
