0.0000089993
0.0000000000
0.0000000000
-0.0000089993
-76.8342692585
34.6974262059
