0.0000089993
0.0000000000
0.0000000000
-0.0000089993
-76.8234971202
34.7046256299
