0.0000089993
0.0000000000
0.0000000000
-0.0000089993
-76.8124370050
34.6977501800
