0.0000089993
0.0000000000
0.0000000000
-0.0000089993
-76.7034107271
34.7045266378
