0.0000089993
0.0000000000
0.0000000000
-0.0000089993
-76.6924496040
34.7020338373
