0.0000089993
0.0000000000
0.0000000000
-0.0000089993
-76.6814794816
34.7036897048
