0.0000089993
0.0000000000
0.0000000000
-0.0000089993
-76.6486771058
34.7000179985
