0.0000089993
0.0000000000
0.0000000000
-0.0000089993
-76.6458873290
34.7009269258
