0.0000089993
0.0000000000
0.0000000000
-0.0000089993
-76.6376079914
34.6911087112
