0.0000089993
0.0000000000
0.0000000000
-0.0000089993
-76.6158117351
34.6913426925
