0.0000089993
0.0000000000
0.0000000000
-0.0000089993
-76.6923866091
34.6993520518
