0.0000089993
0.0000000000
0.0000000000
-0.0000089993
-76.6924226062
34.7006749460
