0.0000089993
0.0000000000
0.0000000000
-0.0000089993
-76.6812904968
34.6905867530
