0.0000089993
0.0000000000
0.0000000000
-0.0000089993
-76.6596472282
34.6997930165
