0.0000089993
0.0000000000
0.0000000000
-0.0000089993
-76.6263768898
34.6733171346
