0.0000089993
0.0000000000
0.0000000000
-0.0000089993
-76.5540136789
34.6020428365
