0.0000089993
0.0000000000
0.0000000000
-0.0000089993
-76.5598902088
34.6200413966
