1.000000
0.000000
-0.000000
-1.000000
799100.500000
582199.500000
