1.000000
0.000000
-0.000000
-1.000000
909300.500000
628399.500000
