1.000000
0.000000
-0.000000
-1.000000
978900.500000
666899.500000
