1.000000
0.000000
-0.000000
-1.000000
984700.500000
651499.500000
