1.000000
0.000000
-0.000000
-1.000000
1031100.500000
890199.500000
