1.000000
0.000000
-0.000000
-1.000000
1158700.500000
666899.500000
