1.000000
0.000000
-0.000000
-1.000000
1176100.500000
697699.500000
