1.000000
0.000000
-0.000000
-1.000000
1187700.500000
766999.500000
