0.500000
0.000000
0.000000
-0.500000
825000.250000
434999.750000
