0.500000
0.000000
0.000000
-0.500000
845000.250000
914999.750000
