0.500000
0.000000
0.000000
-0.500000
895000.250000
594999.750000
