0.500000
0.000000
0.000000
-0.500000
900000.250000
799999.750000
