0.5950831876
0.0000000000
0.0000000000
-0.5950831876
252070.5044363184
1467291.1889573254
