0.6198343211
0.0000000000
0.0000000000
-0.6198343211
253881.2507804281
1469858.2152883178
